BEGIN:VCALENDAR
METHOD:PUBLISH
PRODID:Data::ICal 0.13
VERSION:2.0
BEGIN:VEVENT
DESCRIPTION:
DTSTAMP:20260423T082416Z
DTSTART;TZID=America/New_York:20260717T180000
DTEND;TZID=America/New_York:20260718T230000
LOCATION:Charlotte\, NC
SUMMARY:Usher &amp; Chris Brown: &#8216;The R &amp; B Tour&#8217; At Bank Of America Stadium
UID:2875054-1784311200-1784415600
END:VEVENT
END:VCALENDAR
